BEGIN:VCALENDAR
VERSION:2.0
PRODID:-//AnX Robotics - ECPv6.15.20//NONSGML v1.0//EN
CALSCALE:GREGORIAN
METHOD:PUBLISH
X-ORIGINAL-URL:https://anxrobotics.com
X-WR-CALDESC:Events for AnX Robotics
REFRESH-INTERVAL;VALUE=DURATION:PT1H
X-Robots-Tag:noindex
X-PUBLISHED-TTL:PT1H
BEGIN:VTIMEZONE
TZID:America/Denver
BEGIN:DAYLIGHT
TZOFFSETFROM:-0700
TZOFFSETTO:-0600
TZNAME:MDT
DTSTART:20200308T090000
END:DAYLIGHT
BEGIN:STANDARD
TZOFFSETFROM:-0600
TZOFFSETTO:-0700
TZNAME:MST
DTSTART:20201101T080000
END:STANDARD
BEGIN:DAYLIGHT
TZOFFSETFROM:-0700
TZOFFSETTO:-0600
TZNAME:MDT
DTSTART:20210314T090000
END:DAYLIGHT
BEGIN:STANDARD
TZOFFSETFROM:-0600
TZOFFSETTO:-0700
TZNAME:MST
DTSTART:20211107T080000
END:STANDARD
BEGIN:DAYLIGHT
TZOFFSETFROM:-0700
TZOFFSETTO:-0600
TZNAME:MDT
DTSTART:20220313T090000
END:DAYLIGHT
BEGIN:STANDARD
TZOFFSETFROM:-0600
TZOFFSETTO:-0700
TZNAME:MST
DTSTART:20221106T080000
END:STANDARD
BEGIN:DAYLIGHT
TZOFFSETFROM:-0700
TZOFFSETTO:-0600
TZNAME:MDT
DTSTART:20230312T090000
END:DAYLIGHT
BEGIN:STANDARD
TZOFFSETFROM:-0600
TZOFFSETTO:-0700
TZNAME:MST
DTSTART:20231105T080000
END:STANDARD
END:VTIMEZONE
BEGIN:VEVENT
DTSTART;VALUE=DATE:20220523
DTEND;VALUE=DATE:20220526
DTSTAMP:20260424T120445
CREATED:20220418T213143Z
LAST-MODIFIED:20220419T182714Z
UID:1156-1653264000-1653523199@anxrobotics.com
SUMMARY:DDW 2022
DESCRIPTION:Please stop by Booth 1111 at DDW 2022 to experience the transformational NaviCam Magnetically Controlled Capsule Endoscopy System.
URL:https://anxrobotics.com/event/ddw-2022/
LOCATION:San Diego Convention Center\, United States
END:VEVENT
BEGIN:VEVENT
DTSTART;VALUE=DATE:20220428
DTEND;VALUE=DATE:20220501
DTSTAMP:20260424T120445
CREATED:20220404T231119Z
LAST-MODIFIED:20220404T231119Z
UID:1151-1651104000-1651363199@anxrobotics.com
SUMMARY:ESGE Days
DESCRIPTION:Please visit AnX Robotica\, Booth No. 6 at ESGE Days 2022!
URL:https://anxrobotics.com/event/esge-days/
LOCATION:Prague Congress Centre\, 5 kvetna 1640/65 140 21 Praha 4 - Nusle\, Prague\, Czech Republic
END:VEVENT
BEGIN:VEVENT
DTSTART;TZID=America/Denver:20211022T080000
DTEND;TZID=America/Denver:20211026T170000
DTSTAMP:20260424T120445
CREATED:20211006T192958Z
LAST-MODIFIED:20211006T192958Z
UID:1011-1634889600-1635267600@anxrobotics.com
SUMMARY:American College of Gastroenterology (ACG)
DESCRIPTION:Please visit us at booth #640 during ACG 2021 in Las Vegas!
URL:https://anxrobotics.com/event/american-college-of-gastroenterology-acg/
LOCATION:Mandalay Bay Resort and Casino\, Las Vegas\, NV\, United States
END:VEVENT
END:VCALENDAR